BEGIN:VCALENDAR
VERSION:2.0
PRODID:-//Ayuda - ECPv6.15.20//NONSGML v1.0//EN
CALSCALE:GREGORIAN
METHOD:PUBLISH
X-WR-CALNAME:Ayuda
X-ORIGINAL-URL:https://ayuda.com
X-WR-CALDESC:Events for Ayuda
REFRESH-INTERVAL;VALUE=DURATION:PT1H
X-Robots-Tag:noindex
X-PUBLISHED-TTL:PT1H
BEGIN:VTIMEZONE
TZID:UTC
BEGIN:STANDARD
TZOFFSETFROM:+0000
TZOFFSETTO:+0000
TZNAME:UTC
DTSTART:20200101T000000
END:STANDARD
END:VTIMEZONE
BEGIN:VEVENT
DTSTART;TZID=UTC:20210325T190000
DTEND;TZID=UTC:20210325T200000
DTSTAMP:20260425T111336
CREATED:20200922T201536Z
LAST-MODIFIED:20210318T185805Z
UID:11124-1616698800-1616702400@ayuda.com
SUMMARY:Ayuda Speaker Series: Faces of Change
DESCRIPTION:
URL:https://ayuda.com/event/ayuda-speaker-series-faces-of-change/
LOCATION:Zoom
END:VEVENT
END:VCALENDAR